BEGIN:VCALENDAR
VERSION:2.0
PRODID:-//Alpine Yoga &amp; Wellness Studios  - ECPv6.15.15//NONSGML v1.0//EN
CALSCALE:GREGORIAN
METHOD:PUBLISH
X-WR-CALNAME:Alpine Yoga &amp; Wellness Studios 
X-ORIGINAL-URL:https://alpineyogalec.com
X-WR-CALDESC:Events for Alpine Yoga &amp; Wellness Studios 
REFRESH-INTERVAL;VALUE=DURATION:PT1H
X-Robots-Tag:noindex
X-PUBLISHED-TTL:PT1H
BEGIN:VTIMEZONE
TZID:UTC
BEGIN:STANDARD
TZOFFSETFROM:+0000
TZOFFSETTO:+0000
TZNAME:UTC
DTSTART:20240101T000000
END:STANDARD
END:VTIMEZONE
BEGIN:VEVENT
DTSTART;TZID=UTC:20250131T080000
DTEND;TZID=UTC:20250131T170000
DTSTAMP:20260422T174519
CREATED:20250129T085728Z
LAST-MODIFIED:20250129T085743Z
UID:5922-1738310400-1738342800@alpineyogalec.com
SUMMARY:Hot Yogalates
DESCRIPTION:
URL:https://alpineyogalec.com/service/hot-yogalates/
CATEGORIES:Advanced
END:VEVENT
BEGIN:VEVENT
DTSTART;TZID=UTC:20250131T080000
DTEND;TZID=UTC:20250131T170000
DTSTAMP:20260422T174519
CREATED:20250129T085653Z
LAST-MODIFIED:20250129T085706Z
UID:5919-1738310400-1738342800@alpineyogalec.com
SUMMARY:Hot Flow - Instructor's Choice
DESCRIPTION:
URL:https://alpineyogalec.com/service/hot-flow-instructors-choice/
CATEGORIES:Advanced
END:VEVENT
BEGIN:VEVENT
DTSTART;TZID=UTC:20250131T080000
DTEND;TZID=UTC:20250131T170000
DTSTAMP:20260422T174519
CREATED:20250129T085355Z
LAST-MODIFIED:20250129T085408Z
UID:5913-1738310400-1738342800@alpineyogalec.com
SUMMARY:HOT 60
DESCRIPTION:
URL:https://alpineyogalec.com/service/hot-60/
CATEGORIES:Advanced
END:VEVENT
BEGIN:VEVENT
DTSTART;TZID=UTC:20250131T080000
DTEND;TZID=UTC:20250131T170000
DTSTAMP:20260422T174519
CREATED:20250129T085324Z
LAST-MODIFIED:20250129T085336Z
UID:5910-1738310400-1738342800@alpineyogalec.com
SUMMARY:Gentle Yoga
DESCRIPTION:
URL:https://alpineyogalec.com/service/gentle-yoga/
CATEGORIES:Advanced
END:VEVENT
BEGIN:VEVENT
DTSTART;TZID=UTC:20250131T080000
DTEND;TZID=UTC:20250131T170000
DTSTAMP:20260422T174519
CREATED:20250129T085243Z
LAST-MODIFIED:20250129T085258Z
UID:5907-1738310400-1738342800@alpineyogalec.com
SUMMARY:Forrest Inspired Yoga
DESCRIPTION:
URL:https://alpineyogalec.com/service/forrest-inspired-yoga/
CATEGORIES:Advanced
END:VEVENT
BEGIN:VEVENT
DTSTART;TZID=UTC:20250131T080000
DTEND;TZID=UTC:20250131T170000
DTSTAMP:20260422T174519
CREATED:20250129T085204Z
LAST-MODIFIED:20250129T085222Z
UID:5904-1738310400-1738342800@alpineyogalec.com
SUMMARY:Forrest Yoga
DESCRIPTION:
URL:https://alpineyogalec.com/service/forrest-yoga/
CATEGORIES:Advanced
END:VEVENT
BEGIN:VEVENT
DTSTART;TZID=UTC:20250131T080000
DTEND;TZID=UTC:20250131T170000
DTSTAMP:20260422T174519
CREATED:20250129T084553Z
LAST-MODIFIED:20250129T084652Z
UID:5878-1738310400-1738342800@alpineyogalec.com
SUMMARY:Basic Aerial
DESCRIPTION:
URL:https://alpineyogalec.com/service/basic-aerial/
CATEGORIES:Advanced
END:VEVENT
END:VCALENDAR